BEGIN:VCALENDAR
VERSION:2.0
PRODID:-//Naturpark Our - ECPv5.8.0//NONSGML v1.0//EN
CALSCALE:GREGORIAN
METHOD:PUBLISH
X-WR-CALNAME:Naturpark Our
X-ORIGINAL-URL:https://naturpark-our.lu
X-WR-CALDESC:Veranstaltungen für Naturpark Our
BEGIN:VTIMEZONE
TZID:Europe/Luxembourg
BEGIN:DAYLIGHT
TZOFFSETFROM:+0100
TZOFFSETTO:+0200
TZNAME:CEST
DTSTART:20210328T010000
END:DAYLIGHT
BEGIN:STANDARD
TZOFFSETFROM:+0200
TZOFFSETTO:+0100
TZNAME:CET
DTSTART:20211031T010000
END:STANDARD
END:VTIMEZONE
BEGIN:VEVENT
DTSTART;TZID=Europe/Luxembourg:20210827T200000
DTEND;TZID=Europe/Luxembourg:20210829T180000
DTSTAMP:20210723T101719
CREATED:20210715T084744Z
LAST-MODIFIED:20210715T122347Z
UID:4357-1630094400-1630260000@naturpark-our.lu
SUMMARY:Save the Date "Cliärref am neie Liicht"
DESCRIPTION:Abschlussfeier des Festivals „NIGHT\, Light & more“. \nMehr Informationen und Programm Highlights folgen.
URL:https://naturpark-our.lu/event/save-the-date-cliaerref-am-neie-liicht/
LOCATION:Clervaux\, Clervaux
CATEGORIES:Allgemein
ATTACH;FMTTYPE=image/jpeg:https://naturpark-our.lu/wp-content/uploads/2021/07/IMG_0201_Marco-Guth.jpeg
END:VEVENT
END:VCALENDAR