BEGIN:VCALENDAR
VERSION:2.0
PRODID:-//Naturpark Our - ECPv5.8.0//NONSGML v1.0//EN
CALSCALE:GREGORIAN
METHOD:PUBLISH
X-WR-CALNAME:Naturpark Our
X-ORIGINAL-URL:https://naturpark-our.lu
X-WR-CALDESC:Veranstaltungen für Naturpark Our
BEGIN:VTIMEZONE
TZID:Europe/Luxembourg
BEGIN:DAYLIGHT
TZOFFSETFROM:+0100
TZOFFSETTO:+0200
TZNAME:CEST
DTSTART:20210328T010000
END:DAYLIGHT
BEGIN:STANDARD
TZOFFSETFROM:+0200
TZOFFSETTO:+0100
TZNAME:CET
DTSTART:20211031T010000
END:STANDARD
END:VTIMEZONE
BEGIN:VEVENT
DTSTART;TZID=Europe/Luxembourg:20210814T140000
DTEND;TZID=Europe/Luxembourg:20210814T170000
DTSTAMP:20210723T101536
CREATED:20210716T125204Z
LAST-MODIFIED:20210716T150230Z
UID:4458-1628949600-1628960400@naturpark-our.lu
SUMMARY:SA 14.08.2021: Das Huhn und seine Eier
DESCRIPTION:Gemeinsam machen wir uns im Hühnerstall auf die Suche nach Eiern. Nach der anstrengenden Suche haben wir uns eine Stärkung verdient. Wir bereiten einen Teig vor und backen Pfannkuchen auf der Feuerstelle. Mit frischen Kräutern aus unserem Garten erfinden wir\, unserem persönlichen Geschmack entsprechend\, neue Pfannkuchen-Kreationen. \nDie Aktivität wird vom pädagogischen Bauernhof Um Knapphaff in Zusammenarbeit mit der Ecole du Goût der Naturparke veranstaltet. \nWichtig: Alte\, dem Wetter entsprechende Kleidung und festes Schuhwerk werden benötigt ! \n\nFür die Anmeldung und weitere Fragen wenden Sie sich bitte an:\nNaturpark Our\n12\, Parc\, L- 9836 Hosingen\nTel.: +352 90 81 88-1\nreception@naturpark-our.lu \nTeilnahmegebühr: 5 € \nTeilnehmerzahl: 8 – 12 \nAlter: 6 – 12 Jahre
URL:https://naturpark-our.lu/event/sa-14-08-2021-dhong-a-seng-eeer/
LOCATION:Um Knapphaff\, Duerfstrooss 55\, Knaphoscheid\, Luxemburg
CATEGORIES:Kinderaktivitäten
ATTACH;FMTTYPE=image/jpeg:https://naturpark-our.lu/wp-content/uploads/2021/07/Hong_Eeer-scaled.jpg
ORGANIZER;CN="Naturpark%20Our":MAILTO:reception@naturpark-our.lu
END:VEVENT
END:VCALENDAR