BEGIN:VCALENDAR
VERSION:2.0
PRODID:-//Naturpark Our - ECPv5.8.0//NONSGML v1.0//EN
CALSCALE:GREGORIAN
METHOD:PUBLISH
X-WR-CALNAME:Naturpark Our
X-ORIGINAL-URL:https://naturpark-our.lu
X-WR-CALDESC:Veranstaltungen für Naturpark Our
BEGIN:VTIMEZONE
TZID:Europe/Luxembourg
BEGIN:DAYLIGHT
TZOFFSETFROM:+0100
TZOFFSETTO:+0200
TZNAME:CEST
DTSTART:20210328T010000
END:DAYLIGHT
BEGIN:STANDARD
TZOFFSETFROM:+0200
TZOFFSETTO:+0100
TZNAME:CET
DTSTART:20211031T010000
END:STANDARD
END:VTIMEZONE
BEGIN:VEVENT
DTSTART;TZID=Europe/Luxembourg:20210808T103000
DTEND;TZID=Europe/Luxembourg:20210808T133000
DTSTAMP:20210723T101453
CREATED:20210615T121611Z
LAST-MODIFIED:20210617T072936Z
UID:3928-1628418600-1628429400@naturpark-our.lu
SUMMARY:Geführte Wanderung auf dem Fluchthelferweg Troisvierges
DESCRIPTION:Auf den Spuren der Fluchthelfer …. Eine spannende geführte Rundwanderung\, die historisches Interesse und Naturerlebnis in der Umgebung von Troisvierges verbindet. \nDer thematische Wanderweg beschäftigt sich mit den Fluchtoperationen luxemburgischer Resistenzler und Zwangsrekrutierter während der letzten Kriegsjahre ins nahe Belgien und folgt in großen Linien den Original-Strecken\, die von den Fluchthelfern und ihren Schützlingen benutzt wurden. \n  Klicken zum Download\n8 km\, 3 Stunden\, mittel \nSprachen: lux.\, deutsch\, französisch \nGebühr: 5 €\, Kinder bis einschl. 10 Jahre gratis. \nMaskenpflicht. \nTeilnahme nur mit Anmeldung/Ticket möglich. \nKaufen Sie Ihr Ticket online: https://www.visit-eislek.lu/de/details-regiondo?product=181012 \nInfos: Tel.: +352 90 81 88 – 641\, simone.zanter@naturpark-our.lu \n 
URL:https://naturpark-our.lu/event/gefuehrte-wanderung-auf-dem-fluchthelferweg-troisvierges/2021-08-08/
LOCATION:Troisvierges
CATEGORIES:Allgemein
ATTACH;FMTTYPE=image/jpeg:https://naturpark-our.lu/wp-content/uploads/2021/06/SdP_Caroline-Martin.jpg
ORGANIZER;CN="Naturpark%20Our":MAILTO:reception@naturpark-our.lu
END:VEVENT
END:VCALENDAR